BEGIN:VCALENDAR
VERSION:2.0
PRODID:-//OC History Center - ECPv6.15.20//NONSGML v1.0//EN
CALSCALE:GREGORIAN
METHOD:PUBLISH
X-WR-CALNAME:OC History Center
X-ORIGINAL-URL:https://www.oldhamkyhistory.com
X-WR-CALDESC:Events for OC History Center
REFRESH-INTERVAL;VALUE=DURATION:PT1H
X-Robots-Tag:noindex
X-PUBLISHED-TTL:PT1H
BEGIN:VTIMEZONE
TZID:Africa/Abidjan
BEGIN:STANDARD
TZOFFSETFROM:+0000
TZOFFSETTO:+0000
TZNAME:GMT
DTSTART:20250101T000000
END:STANDARD
END:VTIMEZONE
BEGIN:VEVENT
DTSTART;TZID=Africa/Abidjan:20260517T110000
DTEND;TZID=Africa/Abidjan:20260517T140000
DTSTAMP:20260421T095226
CREATED:20260326T034128Z
LAST-MODIFIED:20260421T033813Z
UID:12465-1779015600-1779026400@www.oldhamkyhistory.com
SUMMARY:Public Archaeology Dig
DESCRIPTION:Work alongside professional archaeologists and explore a dig site dating back to the mid-1800s\n\n\nStep into the past during a hands-on Public Archaeology Dig on Sunday\, May 17\, 2026\, from 11:00 a.m. to 2:00 p.m. at the historic Duncan Homestead site in La Grange. \nThis unique educational experience offers participants the opportunity to work alongside professional archaeologists and explore a site dating back to the mid-1800s. Attendees will learn proper excavation techniques\, discover how artifacts are identified and preserved\, and gain insight into everyday life in 19th-century Oldham County.  \nDesigned for history enthusiasts\, the dig provides an engaging\, interactive way to connect with local heritage. Participants will actively take part in uncovering history while receiving expert guidance throughout the process. Professional archaeologists will teach participants to how to survey and excavate a site\, and how to date and collect found artifacts. All found artifacts will enter into the Oldham County History Center’s collection\, helping us better understand this era of our County’s history.
URL:https://www.oldhamkyhistory.com/event/public-archaeology-dig/
LOCATION:Oldham County History Center\, 106 North 2nd Avenue #St\, La Grange\, KY 40031\, La Grange\, KY\, 40031\, US
ATTACH;FMTTYPE=image/png:https://www.oldhamkyhistory.com/wp-content/uploads/2026/03/12465_image.png
END:VEVENT
END:VCALENDAR